BEGIN:VCALENDAR
VERSION:2.0
PRODID:-//School of Engineering &amp; Technology - ECPv6.5.1.5//NONSGML v1.0//EN
CALSCALE:GREGORIAN
METHOD:PUBLISH
X-WR-CALNAME:School of Engineering &amp; Technology
X-ORIGINAL-URL:https://set.mut.ac.ke
X-WR-CALDESC:Events for School of Engineering &amp; Technology
REFRESH-INTERVAL;VALUE=DURATION:PT1H
X-Robots-Tag:noindex
X-PUBLISHED-TTL:PT1H
BEGIN:VTIMEZONE
TZID:Europe/Moscow
BEGIN:STANDARD
TZOFFSETFROM:+0300
TZOFFSETTO:+0300
TZNAME:MSK
DTSTART:20200101T000000
END:STANDARD
END:VTIMEZONE
BEGIN:VEVENT
DTSTART;TZID=Europe/Moscow:20200113T080000
DTEND;TZID=Europe/Moscow:20200531T170000
DTSTAMP:20260425T134244
CREATED:20200116T085715Z
LAST-MODIFIED:20200515T054514Z
UID:5989-1578902400-1590944400@set.mut.ac.ke
SUMMARY:Second Semester Year 2019/2020 Lecture takeoff
DESCRIPTION:
URL:https://set.mut.ac.ke/event/second-semester-year-2019-2020-lecture-takeoff/
END:VEVENT
BEGIN:VEVENT
DTSTART;TZID=Europe/Moscow:20200107T070000
DTEND;TZID=Europe/Moscow:20200531T170000
DTSTAMP:20260425T134244
CREATED:20200109T090220Z
LAST-MODIFIED:20200515T054529Z
UID:5993-1578380400-1590944400@set.mut.ac.ke
SUMMARY:MUT Year 2020 Opening Dates
DESCRIPTION:
URL:https://set.mut.ac.ke/event/mut-year-2020-opening-dates/
END:VEVENT
END:VCALENDAR