BEGIN:VCALENDAR
VERSION:2.0
PRODID:-//School of Engineering &amp; Technology - ECPv6.5.1.5//NONSGML v1.0//EN
CALSCALE:GREGORIAN
METHOD:PUBLISH
X-WR-CALNAME:School of Engineering &amp; Technology
X-ORIGINAL-URL:https://set.mut.ac.ke
X-WR-CALDESC:Events for School of Engineering &amp; Technology
REFRESH-INTERVAL;VALUE=DURATION:PT1H
X-Robots-Tag:noindex
X-PUBLISHED-TTL:PT1H
BEGIN:VTIMEZONE
TZID:UTC
BEGIN:STANDARD
TZOFFSETFROM:+0000
TZOFFSETTO:+0000
TZNAME:UTC
DTSTART:20200101T000000
END:STANDARD
END:VTIMEZONE
BEGIN:VEVENT
DTSTART;TZID=UTC:20200129T130000
DTEND;TZID=UTC:20201231T170000
DTSTAMP:20260425T195346
CREATED:20180816T085533Z
LAST-MODIFIED:20200515T054447Z
UID:5986-1580302800-1609434000@set.mut.ac.ke
SUMMARY:Vice Chancellor's Research Grant
DESCRIPTION:The Murang’a University of Technology mandate is to contribute to Kenya’s Development Agenda Vision 2030\, ‘’The Big Four Agenda’’ and the Global Sustainable Development Goals (SDGs) which are anchored on three key pillars: Economic\, Social and Political. To achieve this\, MUT has to invest in the development of new knowledge\, inventions and innovations through collaborative research.
URL:https://set.mut.ac.ke/event/vice-chancellors-research-grant/
END:VEVENT
END:VCALENDAR